BEGIN:VCALENDAR
VERSION:2.0
PRODID:-//Alpine Garrison - ECPv6.15.17.1//NONSGML v1.0//EN
CALSCALE:GREGORIAN
METHOD:PUBLISH
X-ORIGINAL-URL:https://ut501st.com
X-WR-CALDESC:Events for Alpine Garrison
REFRESH-INTERVAL;VALUE=DURATION:PT1H
X-Robots-Tag:noindex
X-PUBLISHED-TTL:PT1H
BEGIN:VTIMEZONE
TZID:America/Denver
BEGIN:DAYLIGHT
TZOFFSETFROM:-0700
TZOFFSETTO:-0600
TZNAME:MDT
DTSTART:20220313T090000
END:DAYLIGHT
BEGIN:STANDARD
TZOFFSETFROM:-0600
TZOFFSETTO:-0700
TZNAME:MST
DTSTART:20221106T080000
END:STANDARD
BEGIN:DAYLIGHT
TZOFFSETFROM:-0700
TZOFFSETTO:-0600
TZNAME:MDT
DTSTART:20230312T090000
END:DAYLIGHT
BEGIN:STANDARD
TZOFFSETFROM:-0600
TZOFFSETTO:-0700
TZNAME:MST
DTSTART:20231105T080000
END:STANDARD
BEGIN:DAYLIGHT
TZOFFSETFROM:-0700
TZOFFSETTO:-0600
TZNAME:MDT
DTSTART:20240310T090000
END:DAYLIGHT
BEGIN:STANDARD
TZOFFSETFROM:-0600
TZOFFSETTO:-0700
TZNAME:MST
DTSTART:20241103T080000
END:STANDARD
END:VTIMEZONE
BEGIN:VEVENT
DTSTART;TZID=America/Denver:20230704T090000
DTEND;TZID=America/Denver:20230704T100000
DTSTAMP:20260425T192036
CREATED:20230508T203402Z
LAST-MODIFIED:20230508T203402Z
UID:6348-1688461200-1688464800@ut501st.com
SUMMARY:Lewiston 4th of July Parade
DESCRIPTION:This is a Multi-Garrison event parade taking place in Lewiston.  Traffic for the parade will be closed at 9 and everything will start at 9:30.  Please allow yourselves enough time to arrive and change into your kits. \nThis will be a change at car event.
URL:https://ut501st.com/event/lewiston-4th-of-july-parade/
LOCATION:Lewiston City\, 15 S Main St\, Lewiston\, UT\, 84320\, United States
END:VEVENT
BEGIN:VEVENT
DTSTART;TZID=America/Denver:20230704T093000
DTEND;TZID=America/Denver:20230704T123000
DTSTAMP:20260425T192036
CREATED:20230614T161143Z
LAST-MODIFIED:20230614T161143Z
UID:6417-1688463000-1688473800@ut501st.com
SUMMARY:Layton Liberty Days Parade
DESCRIPTION:We’d love to have you back for the Layton City 4th of July parade.  The parade route is about a mile.  Please be at your staging location at 9:30.  We recommend arriving at least 30-45 minutes beforehand so you have time to change. Parade begins at 10:30.  Exact staging location will be indicated once we get closer to the date of the parade. \nCHANGE AT CAR EVENT
URL:https://ut501st.com/event/layton-liberty-days-parade/
LOCATION:Gordon’s Copy and Print\, 10 S Fairfield Rd\, Layton\, UT\, 84041\, United States
END:VEVENT
END:VCALENDAR