BEGIN:VCALENDAR
VERSION:2.0
PRODID:-//Alpine Garrison - ECPv6.15.17.1//NONSGML v1.0//EN
CALSCALE:GREGORIAN
METHOD:PUBLISH
X-WR-CALNAME:Alpine Garrison
X-ORIGINAL-URL:https://ut501st.com
X-WR-CALDESC:Events for Alpine Garrison
REFRESH-INTERVAL;VALUE=DURATION:PT1H
X-Robots-Tag:noindex
X-PUBLISHED-TTL:PT1H
BEGIN:VTIMEZONE
TZID:America/Denver
BEGIN:DAYLIGHT
TZOFFSETFROM:-0700
TZOFFSETTO:-0600
TZNAME:MDT
DTSTART:20220313T090000
END:DAYLIGHT
BEGIN:STANDARD
TZOFFSETFROM:-0600
TZOFFSETTO:-0700
TZNAME:MST
DTSTART:20221106T080000
END:STANDARD
BEGIN:DAYLIGHT
TZOFFSETFROM:-0700
TZOFFSETTO:-0600
TZNAME:MDT
DTSTART:20230312T090000
END:DAYLIGHT
BEGIN:STANDARD
TZOFFSETFROM:-0600
TZOFFSETTO:-0700
TZNAME:MST
DTSTART:20231105T080000
END:STANDARD
BEGIN:DAYLIGHT
TZOFFSETFROM:-0700
TZOFFSETTO:-0600
TZNAME:MDT
DTSTART:20240310T090000
END:DAYLIGHT
BEGIN:STANDARD
TZOFFSETFROM:-0600
TZOFFSETTO:-0700
TZNAME:MST
DTSTART:20241103T080000
END:STANDARD
END:VTIMEZONE
BEGIN:VEVENT
DTSTART;TZID=America/Denver:20230622T193000
DTEND;TZID=America/Denver:20230622T203000
DTSTAMP:20260425T205847
CREATED:20230508T200905Z
LAST-MODIFIED:20230508T200905Z
UID:6346-1687462200-1687465800@ut501st.com
SUMMARY:Heber Market on Main
DESCRIPTION:This is a weekly market with local vendors\, food trucks\, and the City of Heber provides a free concert to the public each week from June 1-Aug 17.  We would love to have you come at intermission on the stage and then you can greet a few people for pictures afterward? Or whatever you guys like to do and think would be fun.  It is our 25th anniversary and we want some fun and different things for the crowd. \nCHANGE AT CAR EVENT. \nMAX NUMBER OF CHARACTERS: 20
URL:https://ut501st.com/event/heber-market-on-main/
LOCATION:Heber Main Street Park\, 200 S Main Street\, Heber\, UT\, United States
END:VEVENT
END:VCALENDAR