BEGIN:VCALENDAR
VERSION:2.0
PRODID:-//Alpine Garrison - ECPv6.15.17.1//NONSGML v1.0//EN
CALSCALE:GREGORIAN
METHOD:PUBLISH
X-ORIGINAL-URL:https://ut501st.com
X-WR-CALDESC:Events for Alpine Garrison
REFRESH-INTERVAL;VALUE=DURATION:PT1H
X-Robots-Tag:noindex
X-PUBLISHED-TTL:PT1H
BEGIN:VTIMEZONE
TZID:America/Denver
BEGIN:DAYLIGHT
TZOFFSETFROM:-0700
TZOFFSETTO:-0600
TZNAME:MDT
DTSTART:20220313T090000
END:DAYLIGHT
BEGIN:STANDARD
TZOFFSETFROM:-0600
TZOFFSETTO:-0700
TZNAME:MST
DTSTART:20221106T080000
END:STANDARD
BEGIN:DAYLIGHT
TZOFFSETFROM:-0700
TZOFFSETTO:-0600
TZNAME:MDT
DTSTART:20230312T090000
END:DAYLIGHT
BEGIN:STANDARD
TZOFFSETFROM:-0600
TZOFFSETTO:-0700
TZNAME:MST
DTSTART:20231105T080000
END:STANDARD
BEGIN:DAYLIGHT
TZOFFSETFROM:-0700
TZOFFSETTO:-0600
TZNAME:MDT
DTSTART:20240310T090000
END:DAYLIGHT
BEGIN:STANDARD
TZOFFSETFROM:-0600
TZOFFSETTO:-0700
TZNAME:MST
DTSTART:20241103T080000
END:STANDARD
END:VTIMEZONE
BEGIN:VEVENT
DTSTART;TZID=America/Denver:20230617T073000
DTEND;TZID=America/Denver:20230617T120000
DTSTAMP:20260425T205936
CREATED:20230408T153052Z
LAST-MODIFIED:20230408T153052Z
UID:6222-1686987000-1687003200@ut501st.com
SUMMARY:Millie's Princess Run
DESCRIPTION:From the host: Each year we hold the annual Millie’s Princess Run\, our largest event of the year\, in support of two local families. The morning begins with a 5K and KidsK\, followed by a carnival including bounce houses\, rope courses\, balloon animals\, dancing\, and food\, with the highlight being all of the characters who come to support the run and enjoy the party after. Each run has been larger than the last with over  1\,000 runners registered and even more people attending the carnival after. The run is organized and operated completely by volunteers\, allowing for all funds raised during the day to go directly to the two families. \nPlease feel free to “princessify” your kits for those one! Go crazy! \nThis is a change-at-your-car event. There are restrooms on site that could also be used.
URL:https://ut501st.com/event/millies-princess-run-4/
LOCATION:Thanksgiving Point Electric Park\, 3003 Thanksgiving Way\, Lehi\, UT\, 84043\, United States
END:VEVENT
BEGIN:VEVENT
DTSTART;TZID=America/Denver:20230617T173000
DTEND;TZID=America/Denver:20230617T200000
DTSTAMP:20260425T205936
CREATED:20230522T195619Z
LAST-MODIFIED:20230522T195619Z
UID:6378-1687023000-1687032000@ut501st.com
SUMMARY:Walk to End Epilepsy
DESCRIPTION:Annual Epilepsy Fundraiser \nThis is the main fundraiser for this charity nationwide.  Be ready 20 mins before 5:10 Ready To Go.  It is a 1.5 mile walk\, you are welcome to walk the route.  We will be there to cheer them on and take photo ops and engage with attendees.  There will be a place at Wheeler Farm to change as well.  They have music and games and other activities at this event. \nMAX CHARACTERS: 12
URL:https://ut501st.com/event/walk-to-end-epilepsy/
LOCATION:Wheeler Farm\, 6351 S 900 E\, Murray\, UT\, 84121\, United States
END:VEVENT
END:VCALENDAR