BEGIN:VCALENDAR
VERSION:2.0
PRODID:-//Alpine Garrison - ECPv6.15.17.1//NONSGML v1.0//EN
CALSCALE:GREGORIAN
METHOD:PUBLISH
X-ORIGINAL-URL:https://ut501st.com
X-WR-CALDESC:Events for Alpine Garrison
REFRESH-INTERVAL;VALUE=DURATION:PT1H
X-Robots-Tag:noindex
X-PUBLISHED-TTL:PT1H
BEGIN:VTIMEZONE
TZID:America/Denver
BEGIN:DAYLIGHT
TZOFFSETFROM:-0700
TZOFFSETTO:-0600
TZNAME:MDT
DTSTART:20220313T090000
END:DAYLIGHT
BEGIN:STANDARD
TZOFFSETFROM:-0600
TZOFFSETTO:-0700
TZNAME:MST
DTSTART:20221106T080000
END:STANDARD
BEGIN:DAYLIGHT
TZOFFSETFROM:-0700
TZOFFSETTO:-0600
TZNAME:MDT
DTSTART:20230312T090000
END:DAYLIGHT
BEGIN:STANDARD
TZOFFSETFROM:-0600
TZOFFSETTO:-0700
TZNAME:MST
DTSTART:20231105T080000
END:STANDARD
BEGIN:DAYLIGHT
TZOFFSETFROM:-0700
TZOFFSETTO:-0600
TZNAME:MDT
DTSTART:20240310T090000
END:DAYLIGHT
BEGIN:STANDARD
TZOFFSETFROM:-0600
TZOFFSETTO:-0700
TZNAME:MST
DTSTART:20241103T080000
END:STANDARD
END:VTIMEZONE
BEGIN:VEVENT
DTSTART;TZID=America/Denver:20230610T090000
DTEND;TZID=America/Denver:20230610T100000
DTSTAMP:20260425T210021
CREATED:20230515T161718Z
LAST-MODIFIED:20230515T161718Z
UID:6365-1686387600-1686391200@ut501st.com
SUMMARY:Cedar Hills Family Festival Parade
DESCRIPTION:The Cedar Hills Family Festival Parade is a yearly tradition celebrating the great city of Cedar Hills and its residents.  Changing and storage will be provided at the venue.  The parade route begins at Cedar Ridge elementary and ends at Deerfield Elementary.  Water will be available for all participants.  Because the parade starts at 9:00\, it is highly recommended that you arrive early to give yourselves enough time to kit up.  30-45 minutes beforehand should work fine. \n  \nMAX CHARACTERS: 10
URL:https://ut501st.com/event/cedar-hills-family-festival-parade/
LOCATION:Cedar Ridge Elementary\, 4501 W Cedar Hills Dr\, Pleasant Grove\, 84062\, United States
END:VEVENT
BEGIN:VEVENT
DTSTART;TZID=America/Denver:20230610T110000
DTEND;TZID=America/Denver:20230610T130000
DTSTAMP:20260425T210021
CREATED:20230603T205815Z
LAST-MODIFIED:20230603T205815Z
UID:6386-1686394800-1686402000@ut501st.com
SUMMARY:Utah Special Olympics
DESCRIPTION:The Special Olympics Utah Summer Games would love us to hang out with their fans and participants. The event is actually from 10-4\, so if you want to arrive earlier/stay later\, feel free\, but we let them know we would be attending from 11-1. \nThis is outdoors\, so please pre-hydrate. Secure changing will be provided\, ask for Courtnie when you arrive and she will direct you.
URL:https://ut501st.com/event/utah-special-olympics/
LOCATION:Granger High School\, 3690 S 3600 W\, West Valley City\, UT\, 84119\, United States
END:VEVENT
BEGIN:VEVENT
DTSTART;TZID=America/Denver:20230610T170000
DTEND;TZID=America/Denver:20230610T200000
DTSTAMP:20260425T210021
CREATED:20230509T182203Z
LAST-MODIFIED:20230509T182222Z
UID:6357-1686416400-1686427200@ut501st.com
SUMMARY:Annual Garrison BBQ
DESCRIPTION:Join us for food and fun as we celebrate 20 years of Alpine at our annual BBQ! There are restrooms and drinking fountains as well as plenty of parking. Hope to see you all there!
URL:https://ut501st.com/event/annual-garrison-bbq/
LOCATION:High Point Park\, 7885 S 1000 E\, Sandy\, UT\, 84094\, United States
END:VEVENT
END:VCALENDAR