BEGIN:VCALENDAR
VERSION:2.0
PRODID:-//Alpine Garrison - ECPv6.15.17.1//NONSGML v1.0//EN
CALSCALE:GREGORIAN
METHOD:PUBLISH
X-WR-CALNAME:Alpine Garrison
X-ORIGINAL-URL:https://ut501st.com
X-WR-CALDESC:Events for Alpine Garrison
REFRESH-INTERVAL;VALUE=DURATION:PT1H
X-Robots-Tag:noindex
X-PUBLISHED-TTL:PT1H
BEGIN:VTIMEZONE
TZID:America/Denver
BEGIN:DAYLIGHT
TZOFFSETFROM:-0700
TZOFFSETTO:-0600
TZNAME:MDT
DTSTART:20220313T090000
END:DAYLIGHT
BEGIN:STANDARD
TZOFFSETFROM:-0600
TZOFFSETTO:-0700
TZNAME:MST
DTSTART:20221106T080000
END:STANDARD
BEGIN:DAYLIGHT
TZOFFSETFROM:-0700
TZOFFSETTO:-0600
TZNAME:MDT
DTSTART:20230312T090000
END:DAYLIGHT
BEGIN:STANDARD
TZOFFSETFROM:-0600
TZOFFSETTO:-0700
TZNAME:MST
DTSTART:20231105T080000
END:STANDARD
BEGIN:DAYLIGHT
TZOFFSETFROM:-0700
TZOFFSETTO:-0600
TZNAME:MDT
DTSTART:20240310T090000
END:DAYLIGHT
BEGIN:STANDARD
TZOFFSETFROM:-0600
TZOFFSETTO:-0700
TZNAME:MST
DTSTART:20241103T080000
END:STANDARD
END:VTIMEZONE
BEGIN:VEVENT
DTSTART;TZID=America/Denver:20230604T100000
DTEND;TZID=America/Denver:20230604T130000
DTSTAMP:20260425T205846
CREATED:20230412T164154Z
LAST-MODIFIED:20230412T164154Z
UID:6242-1685872800-1685883600@ut501st.com
SUMMARY:Pride Parade 2023
DESCRIPTION:We are once again participating in the Pride Parade! This years theme is unapologetic. I will update as I get more information but for now here is the information I have. They have a new parade route for this year and as of yet I do not know our placement. Day of representatives will be Brenda Ahlemann and Shelby Yeates. On parade day their word is law. The organizers have rules which we must adhere to and they are as follows: \n\nThe distribution of any promotional items\, handouts\, tee-shirts\, candy\,\nbuttons\, etc. or anything that requires throwing or handing things to spectators is strictly forbidden.\nno weapons of any kind\nIf you are not in a trailer you must walk ahead or behind the vehicles.\n\nPlease note the current time is step off time\, not the time you will need to be there to participate.
URL:https://ut501st.com/event/pride-parade-2023/
LOCATION:Pride Starting point\, 300 s. 200 w.\, Salt Lake City\, UT\, 84101\, United States
END:VEVENT
END:VCALENDAR