BEGIN:VCALENDAR
VERSION:2.0
PRODID:-//Alpine Garrison - ECPv6.15.17.1//NONSGML v1.0//EN
CALSCALE:GREGORIAN
METHOD:PUBLISH
X-WR-CALNAME:Alpine Garrison
X-ORIGINAL-URL:https://ut501st.com
X-WR-CALDESC:Events for Alpine Garrison
REFRESH-INTERVAL;VALUE=DURATION:PT1H
X-Robots-Tag:noindex
X-PUBLISHED-TTL:PT1H
BEGIN:VTIMEZONE
TZID:America/Denver
BEGIN:DAYLIGHT
TZOFFSETFROM:-0700
TZOFFSETTO:-0600
TZNAME:MDT
DTSTART:20220313T090000
END:DAYLIGHT
BEGIN:STANDARD
TZOFFSETFROM:-0600
TZOFFSETTO:-0700
TZNAME:MST
DTSTART:20221106T080000
END:STANDARD
BEGIN:DAYLIGHT
TZOFFSETFROM:-0700
TZOFFSETTO:-0600
TZNAME:MDT
DTSTART:20230312T090000
END:DAYLIGHT
BEGIN:STANDARD
TZOFFSETFROM:-0600
TZOFFSETTO:-0700
TZNAME:MST
DTSTART:20231105T080000
END:STANDARD
BEGIN:DAYLIGHT
TZOFFSETFROM:-0700
TZOFFSETTO:-0600
TZNAME:MDT
DTSTART:20240310T090000
END:DAYLIGHT
BEGIN:STANDARD
TZOFFSETFROM:-0600
TZOFFSETTO:-0700
TZNAME:MST
DTSTART:20241103T080000
END:STANDARD
END:VTIMEZONE
BEGIN:VEVENT
DTSTART;TZID=America/Denver:20230603T093000
DTEND;TZID=America/Denver:20230603T133000
DTSTAMP:20260425T205845
CREATED:20230310T030022Z
LAST-MODIFIED:20230310T030022Z
UID:6151-1685784600-1685799000@ut501st.com
SUMMARY:Walk With Angels
DESCRIPTION:Walk With Angels is an advocacy event that celebrates children with special needs.  The families will have some pre-walk entertainment and games\, then at 10:30am they will walk around the perimeter of the park.  We would like characters to hang out with families prior to the walk\, and then help us create a human “tunnel” they walk through and get high-5’s from all the characters as they begin their walk at the balloon arch. \nWe will have restrooms at the park\, an enclosed canopy for changing and water.  We would like characters to be there from 9:30am-11:30am if possible.  They can stay later\, but this is the main time we would like to secure.  Thank you!
URL:https://ut501st.com/event/walk-with-angels-4/
LOCATION:Margaret Wines Park\, 500 N 100 E\, Lehi\, UT\, 84043\, United States
END:VEVENT
BEGIN:VEVENT
DTSTART;TZID=America/Denver:20230603T100000
DTEND;TZID=America/Denver:20230603T200000
DTSTAMP:20260425T205845
CREATED:20230603T210257Z
LAST-MODIFIED:20230603T210257Z
UID:6390-1685786400-1685822400@ut501st.com
SUMMARY:Summer Palooza 2023 (day 2)
DESCRIPTION:Summer Palooza has invited us back again this year! Bring your families! We have a family 4 pack of tickets for each of you\, yes\, each character!!
URL:https://ut501st.com/event/summer-palooza-2023-day-2/
LOCATION:Thanksgiving Point Electric Park\, 3003 Thanksgiving Way\, Lehi\, UT\, 84043\, United States
END:VEVENT
BEGIN:VEVENT
DTSTART;TZID=America/Denver:20230603T150000
DTEND;TZID=America/Denver:20230603T210000
DTSTAMP:20260425T205845
CREATED:20230527T013132Z
LAST-MODIFIED:20230527T013132Z
UID:6381-1685804400-1685826000@ut501st.com
SUMMARY:Ride to Prevent Suicide
DESCRIPTION:Event to prevent suicide with in Utah. They want cosplayers to interact and take pictures with kids/families.  Changing areas will be provided at the venue.
URL:https://ut501st.com/event/ride-to-prevent-suicide/
LOCATION:Mountain States Moving and Storage\, 2670 S 3270 W\, West Valley\, UT\, 84119\, United States
END:VEVENT
END:VCALENDAR