BEGIN:VCALENDAR
VERSION:2.0
PRODID:-//Alpine Garrison - ECPv6.15.17.1//NONSGML v1.0//EN
CALSCALE:GREGORIAN
METHOD:PUBLISH
X-WR-CALNAME:Alpine Garrison
X-ORIGINAL-URL:https://ut501st.com
X-WR-CALDESC:Events for Alpine Garrison
REFRESH-INTERVAL;VALUE=DURATION:PT1H
X-Robots-Tag:noindex
X-PUBLISHED-TTL:PT1H
BEGIN:VTIMEZONE
TZID:America/Denver
BEGIN:DAYLIGHT
TZOFFSETFROM:-0700
TZOFFSETTO:-0600
TZNAME:MDT
DTSTART:20220313T090000
END:DAYLIGHT
BEGIN:STANDARD
TZOFFSETFROM:-0600
TZOFFSETTO:-0700
TZNAME:MST
DTSTART:20221106T080000
END:STANDARD
BEGIN:DAYLIGHT
TZOFFSETFROM:-0700
TZOFFSETTO:-0600
TZNAME:MDT
DTSTART:20230312T090000
END:DAYLIGHT
BEGIN:STANDARD
TZOFFSETFROM:-0600
TZOFFSETTO:-0700
TZNAME:MST
DTSTART:20231105T080000
END:STANDARD
BEGIN:DAYLIGHT
TZOFFSETFROM:-0700
TZOFFSETTO:-0600
TZNAME:MDT
DTSTART:20240310T090000
END:DAYLIGHT
BEGIN:STANDARD
TZOFFSETFROM:-0600
TZOFFSETTO:-0700
TZNAME:MST
DTSTART:20241103T080000
END:STANDARD
END:VTIMEZONE
BEGIN:VEVENT
DTSTART;TZID=America/Denver:20230512T110000
DTEND;TZID=America/Denver:20230512T130000
DTSTAMP:20260425T223551
CREATED:20230508T193757Z
LAST-MODIFIED:20230508T193757Z
UID:6343-1683889200-1683896400@ut501st.com
SUMMARY:Hospital Week
DESCRIPTION:Next week is National Hospital Week\, where we show appreciation for our hospital staff.  The theme of the week is cinema and Friday is Sci-Fi day.  We are asking for a couple people in costume to post up from 1100-1300 at the lunch bar for photo opportunities.  Lunch will be provided for any actors that attend. \nMAX CHARACTERS: 3 \nNO BLASTERS PERMITTED!! \n  \n 
URL:https://ut501st.com/event/hospital-week/
LOCATION:Castleview Hospital\, 300 Hospital Drive\, Price\, UT\, 84501\, United States
END:VEVENT
END:VCALENDAR