BEGIN:VCALENDAR
VERSION:2.0
PRODID:-//Alpine Garrison - ECPv6.15.17.1//NONSGML v1.0//EN
CALSCALE:GREGORIAN
METHOD:PUBLISH
X-ORIGINAL-URL:https://ut501st.com
X-WR-CALDESC:Events for Alpine Garrison
REFRESH-INTERVAL;VALUE=DURATION:PT1H
X-Robots-Tag:noindex
X-PUBLISHED-TTL:PT1H
BEGIN:VTIMEZONE
TZID:America/Denver
BEGIN:DAYLIGHT
TZOFFSETFROM:-0700
TZOFFSETTO:-0600
TZNAME:MDT
DTSTART:20220313T090000
END:DAYLIGHT
BEGIN:STANDARD
TZOFFSETFROM:-0600
TZOFFSETTO:-0700
TZNAME:MST
DTSTART:20221106T080000
END:STANDARD
BEGIN:DAYLIGHT
TZOFFSETFROM:-0700
TZOFFSETTO:-0600
TZNAME:MDT
DTSTART:20230312T090000
END:DAYLIGHT
BEGIN:STANDARD
TZOFFSETFROM:-0600
TZOFFSETTO:-0700
TZNAME:MST
DTSTART:20231105T080000
END:STANDARD
BEGIN:DAYLIGHT
TZOFFSETFROM:-0700
TZOFFSETTO:-0600
TZNAME:MDT
DTSTART:20240310T090000
END:DAYLIGHT
BEGIN:STANDARD
TZOFFSETFROM:-0600
TZOFFSETTO:-0700
TZNAME:MST
DTSTART:20241103T080000
END:STANDARD
END:VTIMEZONE
BEGIN:VEVENT
DTSTART;TZID=America/Denver:20230504T080000
DTEND;TZID=America/Denver:20230504T120000
DTSTAMP:20260425T222416
CREATED:20230410T145550Z
LAST-MODIFIED:20230410T145550Z
UID:6231-1683187200-1683201600@ut501st.com
SUMMARY:North Ogden Elementary
DESCRIPTION:Visit classrooms and walk around school for a May 4th event. Answer Star Wars questions\, take pictures and high fives all around!!
URL:https://ut501st.com/event/north-ogden-elementary/
LOCATION:North Ogden Elementary\, 530 East 2650 North\, Ogden\, UT\, 84414\, United States
END:VEVENT
BEGIN:VEVENT
DTSTART;TZID=America/Denver:20230504T090500
DTEND;TZID=America/Denver:20230504T113000
DTSTAMP:20260425T222416
CREATED:20230416T025828Z
LAST-MODIFIED:20230416T025828Z
UID:6255-1683191100-1683199800@ut501st.com
SUMMARY:Kearns Elementary End of Year Award
DESCRIPTION:This event is to reward ours students who have been working very hard for preparing for the state wide test RISE. The lesson prep we have given them was Star Wars themed and they have been enjoying doing this and working hard. \n  \nMAX CHARACTERS: 10
URL:https://ut501st.com/event/kearns-elementary-end-of-year-award/
LOCATION:west kearns elementary\, 4900 south 4620 west\, Kearns\, UT\, 84118\, United States
END:VEVENT
BEGIN:VEVENT
DTSTART;TZID=America/Denver:20230504T093000
DTEND;TZID=America/Denver:20230504T113000
DTSTAMP:20260425T222416
CREATED:20230415T012644Z
LAST-MODIFIED:20230415T012644Z
UID:6251-1683192600-1683199800@ut501st.com
SUMMARY:May the 4th With Our Veterans
DESCRIPTION:The Veterans Home in Payson have invited us to their facility for May 4th. It will be a meet and greet event. They will have us stationed in an area to get pictures with their residents and afterwards they’re gonna watch Star Wars. We have been in the facility a couple years ago and they love us. They do have a secure area for us to change. \n  \nMAX CHARACTERS: 5
URL:https://ut501st.com/event/may-the-4th-with-our-veterans/
LOCATION:Central Utah Veterans Home\, 1551 North Main Street\, Payson\, UT\, 84651\, United States
END:VEVENT
BEGIN:VEVENT
DTSTART;TZID=America/Denver:20230504T110000
DTEND;TZID=America/Denver:20230504T130000
DTSTAMP:20260425T222416
CREATED:20230414T201700Z
LAST-MODIFIED:20230414T201700Z
UID:6245-1683198000-1683205200@ut501st.com
SUMMARY:Cedar Valley High School Library May the 4th be With You Event
DESCRIPTION:Our public high school library likes to engage our students with all forms of literacy and culture. Because if this we host magnetizing events that allow students to be interested in books\, film\, and pop culture. This year we thought to celebrate all things Star Wars with a mini-mini Star Wars-con on May the 4th. During two lunches\, we’ll invite student Ms to visit the library where they can take their photo with their favorite Star Wars character. And perhaps have treats and giveaways to pull the students into the media center. We’d love to have an immersive characters mingling (cosplay-ing) in the library during the event. \n  \nMAX NUMBER OF CHARACTERS: 20 \nBLASTERS\, LIGHTSABERS\, AND OTHER PROP WEAPONS PERMITTED
URL:https://ut501st.com/event/cedar-valley-high-school-library-may-the-4th-be-with-you-event/
LOCATION:Cedar Valley High School Media Center\, 1389 East Aviator Ave\, Eagle Mountain\, 84005
END:VEVENT
BEGIN:VEVENT
DTSTART;TZID=America/Denver:20230504T120400
DTEND;TZID=America/Denver:20230504T125400
DTSTAMP:20260425T222416
CREATED:20230308T174135Z
LAST-MODIFIED:20230503T130938Z
UID:6127-1683201840-1683204840@ut501st.com
SUMMARY:May the 4th Lehi High School
DESCRIPTION:They will come to the commons/lunchroom of the school and take pictures with students. It will be during lunch. \nNO BLASTERS\, LIGHTSABERS\, OR OTHER WEAPONS. \nMax Characters: 5 \n  \n 
URL:https://ut501st.com/event/may-the-4th-lehi-high-school/
LOCATION:Lehi High School\, 180 N\, 500 E\,\, Lehi\, UT\, 84043\, United States
END:VEVENT
BEGIN:VEVENT
DTSTART;TZID=America/Denver:20230504T130000
DTEND;TZID=America/Denver:20230504T143000
DTSTAMP:20260425T222416
CREATED:20230309T002559Z
LAST-MODIFIED:20230309T002559Z
UID:6134-1683205200-1683210600@ut501st.com
SUMMARY:READ.  This is the way.
DESCRIPTION:Hello!\nWe are excited to host our 2nd annual May the 4th be with you. Last year\, we had 5 incredible characters join us and the students LOVED it. We are ready to take it to the next level this year. We would like to provide a changing area\, lunch for all of our characters and a custom Star Wars shirt for all of our characters. Our hope is to get a lot more involved with our school this year. The time is completely flexible and we can do morning or afternoon. School hours are 8am-2:30pm. Ideal times would be 9:30am or 1:00pm\, but we are flexible. We would only need an hour to an hour and a half. This year’s reading theme is: READ. This is the way.\nOnce we have an idea of approx. how many characters\, we can get a survey sent over to get character shirt sizes and any allergies for lunch. Looking forward to it! Thank you! \n  \nBLASTERS NOT ALLOWED.  LIGHTSABERS OK
URL:https://ut501st.com/event/read-this-is-the-way/
LOCATION:New Bridge Elementary\, 2150 Jefferson Ave\, Ogden\, UT\, 84401\, United States
END:VEVENT
BEGIN:VEVENT
DTSTART;TZID=America/Denver:20230504T130000
DTEND;TZID=America/Denver:20230504T152000
DTSTAMP:20260425T222416
CREATED:20230501T131853Z
LAST-MODIFIED:20230501T131853Z
UID:6331-1683205200-1683213600@ut501st.com
SUMMARY:Southland Elementary May the 4th
DESCRIPTION:This is another school May the 4th request where they would like us to visit and take photos with the students.  A changing and storage area will be provided. \nWhen you arrive\, be sure to check in at the office first to let them know you’re here.
URL:https://ut501st.com/event/southland-elementary-may-the-4th/
LOCATION:Southland Elementary\, 12675 south 2700 west\, Riverton\, UT\, 84065\, United States
END:VEVENT
BEGIN:VEVENT
DTSTART;TZID=America/Denver:20230504T140000
DTEND;TZID=America/Denver:20230504T160000
DTSTAMP:20260425T222416
CREATED:20230309T231222Z
LAST-MODIFIED:20230502T153159Z
UID:6144-1683208800-1683216000@ut501st.com
SUMMARY:Primary Childrens Hospital May the 4th Party
DESCRIPTION:  \nEDIT: this event is full. Please reach out to James Beveridge or Ben Driggs if you are interested in being an alternate. \nStar Wars related activities with the kids will be provided. Hospital staff and volunteers will be present to help and will take some members in small groups to rooms where children are too sick to leave. To attend this event\, you must be able to be aware of surroundings while in costume\, many children will be in the party room with IVs and other medical devices. \nRestrictions: \n\n10 max costumer and 2 spotters\, equaling 12 total attendees. This is a crossclub event\, only say you are going if you are planning on taking one of these slots. Additional spotters or guests will NOT be allowed past the front desk.\nFace masks must be worn at all times (including under a full-face helmet). Troopers\, this means you need antifog in your lenses as we also need to ensure we’re not tripping over medical devices.\nValid ID must be presented at the front desk for a guest badge\nNo blasters (lightsabers okay)\nClean and sterilize your costume as best you can. They will not be checking dry cleaning receipts\, but do as much as you reasonably can.\nIf you are sick (as mild as it may be)\, STAY HOME!\n\nArrive early so you can check in (1:15 is recommended). Park in the parking garage and check in at the front desk. They will direct you. There is an area that we can change in but it is not fully private. A couple bathrooms are available for those who need more privacy.
URL:https://ut501st.com/event/primary-childrens-hospital-may-the-4th-party/
LOCATION:Primary Children’s Hospital\, 100 Mario Capecchi Dr\, Salt Lake City\, UT 84113\, Salt Lake city\, UT\, 84113\, United States
END:VEVENT
BEGIN:VEVENT
DTSTART;TZID=America/Denver:20230504T160000
DTEND;TZID=America/Denver:20230504T190000
DTSTAMP:20260425T222416
CREATED:20230410T150519Z
LAST-MODIFIED:20230410T150519Z
UID:6233-1683216000-1683226800@ut501st.com
SUMMARY:Spectrum Academy Night of Arts
DESCRIPTION:Spectrum Academy is a charter school that focuses on students with Autism.  This event showcases student’s artwork that they have done throughout the year. \n5 characters\, 3 spotters max (we will be running a lottery if more than 5 signup in the first week). \nThere will be secure changing and storage. \nNO weapons (including lightsabers). Hilts on belts are okay.
URL:https://ut501st.com/event/spectrum-academy-night-of-arts/
LOCATION:Spectrum Academy High School\, 552 N Cutler Drive\, North Salt Lake\, UT\, 84054\, United States
END:VEVENT
BEGIN:VEVENT
DTSTART;TZID=America/Denver:20230504T160000
DTEND;TZID=America/Denver:20230504T200000
DTSTAMP:20260425T222416
CREATED:20230309T010242Z
LAST-MODIFIED:20230309T010242Z
UID:6137-1683216000-1683230400@ut501st.com
SUMMARY:May the 4th Be With You (Clark Planetarium)
DESCRIPTION:Hello! \nWe are planning our annual May the 4th event at Clark Planetarium. We would love to have you all join us again if you are able and willing. We will be having activities in the building from 4:00-8:00 pm. Let me know if you have questions. \nThanks for considering\, \nMisty
URL:https://ut501st.com/event/may-the-4th-be-with-you-clark-planetarium/
LOCATION:Clark Planetarium\, 110 s. 400 w.\, Salt Lake City\, UT\, 84101\, United States
END:VEVENT
BEGIN:VEVENT
DTSTART;TZID=America/Denver:20230504T180000
DTEND;TZID=America/Denver:20230504T210000
DTSTAMP:20260425T222416
CREATED:20230428T023555Z
LAST-MODIFIED:20230428T023555Z
UID:6318-1683223200-1683234000@ut501st.com
SUMMARY:Urban Arts Gallery May the 4th
DESCRIPTION:The Urban Arts Gallery at The Gateway have asked for some Star Wars characters to come by to help celebrate May the 4th. It’s right around the corner from the Planetarium if you want to knock out two birds with one stone. A changing and storage area will be provided as well.
URL:https://ut501st.com/event/urban-arts-gallery-may-the-4th/
LOCATION:Urban Arts Gallery\, 116 S Rio Grande St\, Salt Lake City\, UT\, 84101\, United States
END:VEVENT
BEGIN:VEVENT
DTSTART;TZID=America/Denver:20230504T190000
DTEND;TZID=America/Denver:20230504T193000
DTSTAMP:20260425T222416
CREATED:20230428T014600Z
LAST-MODIFIED:20230501T213210Z
UID:6312-1683226800-1683228600@ut501st.com
SUMMARY:Union Middle School Spring Band and Choir Concert
DESCRIPTION:Middle School band and choir concert. Concert band is playing Star Wars music.  Changing and Storage area will be provided.
URL:https://ut501st.com/event/union-middle-school-spring-band-and-choir-concert/
LOCATION:Union Middle School\, 615 E 8000 S\, Sandy\, UT\, 84070\, United States
END:VEVENT
END:VCALENDAR